BEGIN:VCALENDAR
VERSION:2.0
PRODID:-//Chick-fil-A Glenpool - ECPv6.15.20//NONSGML v1.0//EN
CALSCALE:GREGORIAN
METHOD:PUBLISH
X-WR-CALNAME:Chick-fil-A Glenpool
X-ORIGINAL-URL:https://chickfilagp.com
X-WR-CALDESC:Events for Chick-fil-A Glenpool
REFRESH-INTERVAL;VALUE=DURATION:PT1H
X-Robots-Tag:noindex
X-PUBLISHED-TTL:PT1H
BEGIN:VTIMEZONE
TZID:America/Chicago
BEGIN:DAYLIGHT
TZOFFSETFROM:-0600
TZOFFSETTO:-0500
TZNAME:CDT
DTSTART:20240310T080000
END:DAYLIGHT
BEGIN:STANDARD
TZOFFSETFROM:-0500
TZOFFSETTO:-0600
TZNAME:CST
DTSTART:20241103T070000
END:STANDARD
BEGIN:DAYLIGHT
TZOFFSETFROM:-0600
TZOFFSETTO:-0500
TZNAME:CDT
DTSTART:20250309T080000
END:DAYLIGHT
BEGIN:STANDARD
TZOFFSETFROM:-0500
TZOFFSETTO:-0600
TZNAME:CST
DTSTART:20251102T070000
END:STANDARD
BEGIN:DAYLIGHT
TZOFFSETFROM:-0600
TZOFFSETTO:-0500
TZNAME:CDT
DTSTART:20260308T080000
END:DAYLIGHT
BEGIN:STANDARD
TZOFFSETFROM:-0500
TZOFFSETTO:-0600
TZNAME:CST
DTSTART:20261101T070000
END:STANDARD
END:VTIMEZONE
BEGIN:VEVENT
DTSTART;TZID=America/Chicago:20250306T173000
DTEND;TZID=America/Chicago:20250306T190000
DTSTAMP:20260425T100610
CREATED:20250224T194758Z
LAST-MODIFIED:20250224T194758Z
UID:10000262-1741282200-1741287600@chickfilagp.com
SUMMARY:Kids Night
DESCRIPTION:Join us every Thursday from 5:30pm-7:00pm for a fun-filled\, completely free Kids Night! This week\, enjoy creative 3D Sunshine Crafts and amazing balloon creations from Next Level Balloons. It’s the perfect way to spend an evening with the family—no cost\, just fun!
URL:https://chickfilagp.com/event/kids-night-53/
LOCATION:Chick-fil-A Glenpool\, 12130 S Waco Ave\, Glenpool\, OK\, 74033\, United States
ATTACH;FMTTYPE=image/jpeg:https://chickfilagp.com/wp-content/uploads/2024/07/Kids-Night-2024-Logo-1.jpg
ORGANIZER;CN="Chick-fil-A Glenpool":MAILTO:04345@chick-fil-a.com
END:VEVENT
END:VCALENDAR