BEGIN:VCALENDAR
VERSION:2.0
PRODID:-//Chick-fil-A Glenpool - ECPv6.15.20//NONSGML v1.0//EN
CALSCALE:GREGORIAN
METHOD:PUBLISH
X-WR-CALNAME:Chick-fil-A Glenpool
X-ORIGINAL-URL:https://chickfilagp.com
X-WR-CALDESC:Events for Chick-fil-A Glenpool
REFRESH-INTERVAL;VALUE=DURATION:PT1H
X-Robots-Tag:noindex
X-PUBLISHED-TTL:PT1H
BEGIN:VTIMEZONE
TZID:America/Chicago
BEGIN:DAYLIGHT
TZOFFSETFROM:-0600
TZOFFSETTO:-0500
TZNAME:CDT
DTSTART:20240310T080000
END:DAYLIGHT
BEGIN:STANDARD
TZOFFSETFROM:-0500
TZOFFSETTO:-0600
TZNAME:CST
DTSTART:20241103T070000
END:STANDARD
BEGIN:DAYLIGHT
TZOFFSETFROM:-0600
TZOFFSETTO:-0500
TZNAME:CDT
DTSTART:20250309T080000
END:DAYLIGHT
BEGIN:STANDARD
TZOFFSETFROM:-0500
TZOFFSETTO:-0600
TZNAME:CST
DTSTART:20251102T070000
END:STANDARD
BEGIN:DAYLIGHT
TZOFFSETFROM:-0600
TZOFFSETTO:-0500
TZNAME:CDT
DTSTART:20260308T080000
END:DAYLIGHT
BEGIN:STANDARD
TZOFFSETFROM:-0500
TZOFFSETTO:-0600
TZNAME:CST
DTSTART:20261101T070000
END:STANDARD
END:VTIMEZONE
BEGIN:VEVENT
DTSTART;TZID=America/Chicago:20250410T173000
DTEND;TZID=America/Chicago:20250410T190000
DTSTAMP:20260425T065746
CREATED:20250401T214232Z
LAST-MODIFIED:20250401T214232Z
UID:10000267-1744306200-1744311600@chickfilagp.com
SUMMARY:Kids Night
DESCRIPTION:Get ready for a tasty adventure at Kids Night with our favorite cooking guide\, Ms. Sharon! This week\, kids will roll up their sleeves for a fun hands-on cooking class\, learning to make a delicious treat featuring our newest seasonal flavor: Pineapple Dragonfruit! \nIt’s sweet\, tropical\, and totally fun—perfect for little chefs of all skill levels. Come cook\, taste\, and create unforgettable memories!
URL:https://chickfilagp.com/event/kids-night-58/
LOCATION:Chick-fil-A Glenpool\, 12130 S Waco Ave\, Glenpool\, OK\, 74033\, United States
ATTACH;FMTTYPE=image/jpeg:https://chickfilagp.com/wp-content/uploads/2024/07/Kids-Night-2024-Logo-1.jpg
ORGANIZER;CN="Chick-fil-A Glenpool":MAILTO:04345@chick-fil-a.com
END:VEVENT
END:VCALENDAR