BEGIN:VCALENDAR
VERSION:2.0
PRODID:-//Chick-fil-A Glenpool - ECPv6.15.20//NONSGML v1.0//EN
CALSCALE:GREGORIAN
METHOD:PUBLISH
X-ORIGINAL-URL:https://chickfilagp.com
X-WR-CALDESC:Events for Chick-fil-A Glenpool
REFRESH-INTERVAL;VALUE=DURATION:PT1H
X-Robots-Tag:noindex
X-PUBLISHED-TTL:PT1H
BEGIN:VTIMEZONE
TZID:America/Chicago
BEGIN:DAYLIGHT
TZOFFSETFROM:-0600
TZOFFSETTO:-0500
TZNAME:CDT
DTSTART:20240310T080000
END:DAYLIGHT
BEGIN:STANDARD
TZOFFSETFROM:-0500
TZOFFSETTO:-0600
TZNAME:CST
DTSTART:20241103T070000
END:STANDARD
BEGIN:DAYLIGHT
TZOFFSETFROM:-0600
TZOFFSETTO:-0500
TZNAME:CDT
DTSTART:20250309T080000
END:DAYLIGHT
BEGIN:STANDARD
TZOFFSETFROM:-0500
TZOFFSETTO:-0600
TZNAME:CST
DTSTART:20251102T070000
END:STANDARD
BEGIN:DAYLIGHT
TZOFFSETFROM:-0600
TZOFFSETTO:-0500
TZNAME:CDT
DTSTART:20260308T080000
END:DAYLIGHT
BEGIN:STANDARD
TZOFFSETFROM:-0500
TZOFFSETTO:-0600
TZNAME:CST
DTSTART:20261101T070000
END:STANDARD
END:VTIMEZONE
BEGIN:VEVENT
DTSTART;TZID=America/Chicago:20250417T173000
DTEND;TZID=America/Chicago:20250417T190000
DTSTAMP:20260425T052242
CREATED:20250401T214340Z
LAST-MODIFIED:20250401T214626Z
UID:10000268-1744911000-1744916400@chickfilagp.com
SUMMARY:Kids Night
DESCRIPTION:Hop into the spring spirit at Kids Night with a festive Easter Egg Craft & Activity! Kids will enjoy creating their own colorful egg-themed crafts\, just in time for Easter fun. \nAnd back by popular demand\, Next Level Balloons will be bringing the magic with their incredible balloon art—perfect for photo ops and big smiles! \nIt’s a night full of creativity\, color\, and springtime joy you won’t want to miss!
URL:https://chickfilagp.com/event/kids-night-59/
LOCATION:Chick-fil-A Glenpool\, 12130 S Waco Ave\, Glenpool\, OK\, 74033\, United States
ATTACH;FMTTYPE=image/jpeg:https://chickfilagp.com/wp-content/uploads/2024/07/Kids-Night-2024-Logo-1.jpg
ORGANIZER;CN="Chick-fil-A Glenpool":MAILTO:04345@chick-fil-a.com
END:VEVENT
END:VCALENDAR