BEGIN:VCALENDAR
VERSION:2.0
PRODID:-//Chick-fil-A Glenpool - ECPv6.15.20//NONSGML v1.0//EN
CALSCALE:GREGORIAN
METHOD:PUBLISH
X-WR-CALNAME:Chick-fil-A Glenpool
X-ORIGINAL-URL:https://chickfilagp.com
X-WR-CALDESC:Events for Chick-fil-A Glenpool
REFRESH-INTERVAL;VALUE=DURATION:PT1H
X-Robots-Tag:noindex
X-PUBLISHED-TTL:PT1H
BEGIN:VTIMEZONE
TZID:America/Chicago
BEGIN:DAYLIGHT
TZOFFSETFROM:-0600
TZOFFSETTO:-0500
TZNAME:CDT
DTSTART:20240310T080000
END:DAYLIGHT
BEGIN:STANDARD
TZOFFSETFROM:-0500
TZOFFSETTO:-0600
TZNAME:CST
DTSTART:20241103T070000
END:STANDARD
BEGIN:DAYLIGHT
TZOFFSETFROM:-0600
TZOFFSETTO:-0500
TZNAME:CDT
DTSTART:20250309T080000
END:DAYLIGHT
BEGIN:STANDARD
TZOFFSETFROM:-0500
TZOFFSETTO:-0600
TZNAME:CST
DTSTART:20251102T070000
END:STANDARD
BEGIN:DAYLIGHT
TZOFFSETFROM:-0600
TZOFFSETTO:-0500
TZNAME:CDT
DTSTART:20260308T080000
END:DAYLIGHT
BEGIN:STANDARD
TZOFFSETFROM:-0500
TZOFFSETTO:-0600
TZNAME:CST
DTSTART:20261101T070000
END:STANDARD
END:VTIMEZONE
BEGIN:VEVENT
DTSTART;TZID=America/Chicago:20250424T173000
DTEND;TZID=America/Chicago:20250424T190000
DTSTAMP:20260425T065744
CREATED:20250401T214528Z
LAST-MODIFIED:20250401T214528Z
UID:10000269-1745515800-1745521200@chickfilagp.com
SUMMARY:Kids Night
DESCRIPTION:It’s game time at Kids Night! Join Ms. Sharon for a high-energy Family Game Night featuring the crowd-favorite guessing game\, Heads Up! \nGet ready to laugh\, shout\, and work together as families team up to guess silly clues and act out hilarious prompts. It’s the perfect way to wrap up the month—with fun\, friendly competition and unforgettable memories. \nBring your game face and your giggles—this night’s for the whole crew!
URL:https://chickfilagp.com/event/kids-night-60/
LOCATION:Chick-fil-A Glenpool\, 12130 S Waco Ave\, Glenpool\, OK\, 74033\, United States
ATTACH;FMTTYPE=image/jpeg:https://chickfilagp.com/wp-content/uploads/2024/09/Family-Game-Night-Logo.jpg
ORGANIZER;CN="Chick-fil-A Glenpool":MAILTO:04345@chick-fil-a.com
END:VEVENT
END:VCALENDAR