BEGIN:VCALENDAR
VERSION:2.0
PRODID:-//Chick-fil-A Glenpool - ECPv6.15.20//NONSGML v1.0//EN
CALSCALE:GREGORIAN
METHOD:PUBLISH
X-ORIGINAL-URL:https://chickfilagp.com
X-WR-CALDESC:Events for Chick-fil-A Glenpool
REFRESH-INTERVAL;VALUE=DURATION:PT1H
X-Robots-Tag:noindex
X-PUBLISHED-TTL:PT1H
BEGIN:VTIMEZONE
TZID:America/Chicago
BEGIN:DAYLIGHT
TZOFFSETFROM:-0600
TZOFFSETTO:-0500
TZNAME:CDT
DTSTART:20250309T080000
END:DAYLIGHT
BEGIN:STANDARD
TZOFFSETFROM:-0500
TZOFFSETTO:-0600
TZNAME:CST
DTSTART:20251102T070000
END:STANDARD
BEGIN:DAYLIGHT
TZOFFSETFROM:-0600
TZOFFSETTO:-0500
TZNAME:CDT
DTSTART:20260308T080000
END:DAYLIGHT
BEGIN:STANDARD
TZOFFSETFROM:-0500
TZOFFSETTO:-0600
TZNAME:CST
DTSTART:20261101T070000
END:STANDARD
BEGIN:DAYLIGHT
TZOFFSETFROM:-0600
TZOFFSETTO:-0500
TZNAME:CDT
DTSTART:20270314T080000
END:DAYLIGHT
BEGIN:STANDARD
TZOFFSETFROM:-0500
TZOFFSETTO:-0600
TZNAME:CST
DTSTART:20271107T070000
END:STANDARD
END:VTIMEZONE
BEGIN:VEVENT
DTSTART;TZID=America/Chicago:20260519T180000
DTEND;TZID=America/Chicago:20260519T190000
DTSTAMP:20260425T094533
CREATED:20260123T203240Z
LAST-MODIFIED:20260123T203303Z
UID:10000322-1779213600-1779217200@chickfilagp.com
SUMMARY:Bingo Night
DESCRIPTION:Bingo Night is our quarterly excuse to eat dinner\, play a few rounds of Bingo\, and win some prizes. Simple as that. \nJoin us from 6:00–7:00 PM during dinner service. With a minimum entrée purchase\, you’ll get Bingo cards to play throughout the hour. Win a Bingo\, win a prize — up to five wins per guest each night. \nCome with friends\, bring the family\, or just swing by for dinner and jump in. No pressure\, just good food and a little friendly competition.
URL:https://chickfilagp.com/event/bingo-night-2/
LOCATION:Chick-fil-A Glenpool\, 12130 S Waco Ave\, Glenpool\, OK\, 74033\, United States
ATTACH;FMTTYPE=image/jpeg:https://chickfilagp.com/wp-content/uploads/2026/01/Bingo-Night.jpg
ORGANIZER;CN="Chick-fil-A Glenpool":MAILTO:04345@chick-fil-a.com
END:VEVENT
BEGIN:VEVENT
DTSTART;TZID=America/Chicago:20260604T110000
DTEND;TZID=America/Chicago:20260604T130000
DTSTAMP:20260425T094533
CREATED:20260123T205015Z
LAST-MODIFIED:20260123T205015Z
UID:10000325-1780570800-1780578000@chickfilagp.com
SUMMARY:Summer Kids Day
DESCRIPTION:Everyone’s favorite summer tradition returns on Thursday\, June 4th. Join us for 8 weeks of Summer Kids Days\, happening every Thursday from 11:00am–1:00pm. \nEach week brings a fun reason to stop by—perfect for mid-day breaks\, easy lunches\, and making summer memories with your kids. No schedules to juggle\, no pressure—just a relaxed\, come-and-go kind of fun all summer long. \nWe can’t wait to kick it off with you!
URL:https://chickfilagp.com/event/summer-kids-day-11/
LOCATION:Chick-fil-A Glenpool\, 12130 S Waco Ave\, Glenpool\, OK\, 74033\, United States
ATTACH;FMTTYPE=image/jpeg:https://chickfilagp.com/wp-content/uploads/2026/01/SKD-logo.jpg
ORGANIZER;CN="Chick-fil-A Glenpool":MAILTO:04345@chick-fil-a.com
END:VEVENT
BEGIN:VEVENT
DTSTART;TZID=America/Chicago:20260818T180000
DTEND;TZID=America/Chicago:20260818T190000
DTSTAMP:20260425T094533
CREATED:20260123T203439Z
LAST-MODIFIED:20260123T203439Z
UID:10000323-1787076000-1787079600@chickfilagp.com
SUMMARY:Bingo Night
DESCRIPTION:Bingo Night is our quarterly excuse to eat dinner\, play a few rounds of Bingo\, and win some prizes. Simple as that. \nJoin us from 6:00–7:00 PM during dinner service. With a minimum entrée purchase\, you’ll get Bingo cards to play throughout the hour. Win a Bingo\, win a prize — up to five wins per guest each night. \nCome with friends\, bring the family\, or just swing by for dinner and jump in. No pressure\, just good food and a little friendly competition.
URL:https://chickfilagp.com/event/bingo-night-3/
LOCATION:Chick-fil-A Glenpool\, 12130 S Waco Ave\, Glenpool\, OK\, 74033\, United States
ATTACH;FMTTYPE=image/jpeg:https://chickfilagp.com/wp-content/uploads/2026/01/Bingo-Night.jpg
ORGANIZER;CN="Chick-fil-A Glenpool":MAILTO:04345@chick-fil-a.com
END:VEVENT
BEGIN:VEVENT
DTSTART;TZID=America/Chicago:20261110T180000
DTEND;TZID=America/Chicago:20261110T190000
DTSTAMP:20260425T094533
CREATED:20260123T203542Z
LAST-MODIFIED:20260123T203542Z
UID:10000324-1794333600-1794337200@chickfilagp.com
SUMMARY:Bingo Night
DESCRIPTION:Bingo Night is our quarterly excuse to eat dinner\, play a few rounds of Bingo\, and win some prizes. Simple as that. \nJoin us from 6:00–7:00 PM during dinner service. With a minimum entrée purchase\, you’ll get Bingo cards to play throughout the hour. Win a Bingo\, win a prize — up to five wins per guest each night. \nCome with friends\, bring the family\, or just swing by for dinner and jump in. No pressure\, just good food and a little friendly competition.
URL:https://chickfilagp.com/event/bingo-night-4/
LOCATION:Chick-fil-A Glenpool\, 12130 S Waco Ave\, Glenpool\, OK\, 74033\, United States
ATTACH;FMTTYPE=image/jpeg:https://chickfilagp.com/wp-content/uploads/2026/01/Bingo-Night.jpg
ORGANIZER;CN="Chick-fil-A Glenpool":MAILTO:04345@chick-fil-a.com
END:VEVENT
END:VCALENDAR