BEGIN:VCALENDAR
VERSION:2.0
PRODID:-//Chick-fil-A Glenpool - ECPv6.15.20//NONSGML v1.0//EN
CALSCALE:GREGORIAN
METHOD:PUBLISH
X-WR-CALNAME:Chick-fil-A Glenpool
X-ORIGINAL-URL:https://chickfilagp.com
X-WR-CALDESC:Events for Chick-fil-A Glenpool
REFRESH-INTERVAL;VALUE=DURATION:PT1H
X-Robots-Tag:noindex
X-PUBLISHED-TTL:PT1H
BEGIN:VTIMEZONE
TZID:America/Chicago
BEGIN:DAYLIGHT
TZOFFSETFROM:-0600
TZOFFSETTO:-0500
TZNAME:CDT
DTSTART:20240310T080000
END:DAYLIGHT
BEGIN:STANDARD
TZOFFSETFROM:-0500
TZOFFSETTO:-0600
TZNAME:CST
DTSTART:20241103T070000
END:STANDARD
BEGIN:DAYLIGHT
TZOFFSETFROM:-0600
TZOFFSETTO:-0500
TZNAME:CDT
DTSTART:20250309T080000
END:DAYLIGHT
BEGIN:STANDARD
TZOFFSETFROM:-0500
TZOFFSETTO:-0600
TZNAME:CST
DTSTART:20251102T070000
END:STANDARD
BEGIN:DAYLIGHT
TZOFFSETFROM:-0600
TZOFFSETTO:-0500
TZNAME:CDT
DTSTART:20260308T080000
END:DAYLIGHT
BEGIN:STANDARD
TZOFFSETFROM:-0500
TZOFFSETTO:-0600
TZNAME:CST
DTSTART:20261101T070000
END:STANDARD
END:VTIMEZONE
BEGIN:VEVENT
DTSTART;TZID=America/Chicago:20250703T110000
DTEND;TZID=America/Chicago:20250703T130000
DTSTAMP:20260424T183703
CREATED:20250703T144005Z
LAST-MODIFIED:20250703T154644Z
UID:10000284-1751540400-1751547600@chickfilagp.com
SUMMARY:Summer Kids Day
DESCRIPTION:🎉 Summer Kids Day at Chick-fil-A Glenpool! 🎨🐄 \nJoin us for some midweek fun in the sun! Every Thursday from 11AM–1PM\, we’re bringing the excitement with carnival-style games\, colorful face painting\, and a special visit from everyone’s favorite bovine buddy — the Chick-fil-A Cow! \nIt’s a perfect outing for kids of all ages (and grown-ups who love to play\, too). Come make some memories\, snap a few pics\, and enjoy the fun! 🎈🎯🐮 \nSee you there!
URL:https://chickfilagp.com/event/summer-kids-day-8/
LOCATION:Chick-fil-A Glenpool\, 12130 S Waco Ave\, Glenpool\, OK\, 74033\, United States
ATTACH;FMTTYPE=image/jpeg:https://chickfilagp.com/wp-content/uploads/2024/04/Summer-KD-LOGO.jpg
ORGANIZER;CN="Chick-fil-A Glenpool":MAILTO:04345@chick-fil-a.com
END:VEVENT
BEGIN:VEVENT
DTSTART;TZID=America/Chicago:20250710T110000
DTEND;TZID=America/Chicago:20250710T130000
DTSTAMP:20260424T183703
CREATED:20250707T134442Z
LAST-MODIFIED:20250707T134442Z
UID:10000285-1752145200-1752152400@chickfilagp.com
SUMMARY:Summer Kids Day
DESCRIPTION:🍑 Kids Cooking Class at Chick-fil-A Glenpool! 👩‍🍳👨‍🍳 \nGet ready for a deliciously fun time at our Kids Cooking Class\, where we’re celebrating the sweet taste of summer—Peach! Kids will get hands-on as they learn\, create\, and taste their way through a peach-themed culinary adventure. \nIt’s a fun and flavorful experience that’s perfect for little chefs in the making. Don’t miss it! \n🕚 Thursday | 11AM–1PM📍 Chick-fil-A Glenpool \nPeachy fun awaits! 🍑🎉
URL:https://chickfilagp.com/event/summer-kids-day-9/
LOCATION:Chick-fil-A Glenpool\, 12130 S Waco Ave\, Glenpool\, OK\, 74033\, United States
ATTACH;FMTTYPE=image/jpeg:https://chickfilagp.com/wp-content/uploads/2024/04/Summer-KD-LOGO.jpg
ORGANIZER;CN="Chick-fil-A Glenpool":MAILTO:04345@chick-fil-a.com
END:VEVENT
BEGIN:VEVENT
DTSTART;TZID=America/Chicago:20250717T110000
DTEND;TZID=America/Chicago:20250717T130000
DTSTAMP:20260424T183703
CREATED:20250707T134703Z
LAST-MODIFIED:20250707T134703Z
UID:10000286-1752750000-1752757200@chickfilagp.com
SUMMARY:Summer Kids Day
DESCRIPTION:🌍 Around the World Day at Chick-fil-A Glenpool! 🎨✈️ \nPack your (imaginary) passport and join us for Around the World Day\, where kids will explore fun facts and cultural tidbits from countries across the globe — all without leaving Chick-fil-A! From discovering cool traditions to spotting new places on the map\, it’s a day full of learning and adventure. \nAnd of course\, we’ll have face painting to add some color to your journey! \n🗓 Thursday | 11AM–1PM📍 Chick-fil-A Glenpool \nFun facts\, colorful faces\, and worldwide wonder await! 🌎🎨
URL:https://chickfilagp.com/event/summer-kids-day-10/
LOCATION:Chick-fil-A Glenpool\, 12130 S Waco Ave\, Glenpool\, OK\, 74033\, United States
ATTACH;FMTTYPE=image/jpeg:https://chickfilagp.com/wp-content/uploads/2024/04/Summer-KD-LOGO.jpg
ORGANIZER;CN="Chick-fil-A Glenpool":MAILTO:04345@chick-fil-a.com
END:VEVENT
BEGIN:VEVENT
DTSTART;TZID=America/Chicago:20250724T110000
DTEND;TZID=America/Chicago:20250724T130000
DTSTAMP:20260424T183703
CREATED:20250707T135132Z
LAST-MODIFIED:20250707T140112Z
UID:10000287-1753354800-1753362000@chickfilagp.com
SUMMARY:Summer Kids Day
DESCRIPTION:🏀 Team Spirit Day at Chick-fil-A Glenpool! 🎉👕 \nIt’s time to show off your team spirit! Wear your favorite jersey\, uniform\, or team colors and represent who you cheer for—whether it’s your school team\, little league\, or a big-time favorite. \nDon’t have a jersey? No problem! Throw on your team colors and join the fun. And of course\, we can all cheer on our hometown heroes\, the OKC Thunder\, fresh off their NBA Championship win! 🏆💙⚡ \n🕚 Thursday | 11AM–1PM📍 Chick-fil-A Glenpool \nLet’s bring the energy—team pride style! 🎽🙌🏀
URL:https://chickfilagp.com/event/3589/
LOCATION:Chick-fil-A Glenpool\, 12130 S Waco Ave\, Glenpool\, OK\, 74033\, United States
ATTACH;FMTTYPE=image/jpeg:https://chickfilagp.com/wp-content/uploads/2024/04/Summer-KD-LOGO.jpg
ORGANIZER;CN="Chick-fil-A Glenpool":MAILTO:04345@chick-fil-a.com
END:VEVENT
BEGIN:VEVENT
DTSTART;TZID=America/Chicago:20250729T181500
DTEND;TZID=America/Chicago:20250729T193000
DTSTAMP:20260424T183703
CREATED:20250616T205435Z
LAST-MODIFIED:20250707T162606Z
UID:10000280-1753812900-1753817400@chickfilagp.com
SUMMARY:Trivia Night
DESCRIPTION:Team Trivia Night is back—this time with a twist!Grab your smartest friends and get ready for a night full of laughs\, friendly competition\, and brain-busting fun. Teams of up to 3 will battle it out across 5 rounds of trivia to claim the top spot. Our theme this time is 2020 Pop Culture—the year we opened our doors! Think music\, movies\, memes\, and more from a year we’ll never forget. \nEach team (limited to 4 players max due to space) will receive one answer sheet per round\, with 12 questions per sheet. At the end of each round\, you’ll turn in your answers to be scored while the host reveals the correct ones. Scores will be updated after each round so you can keep an eye on the leaderboard! \n🥇 The winning team will take home 4 FREE TICKETS TO SILVER DOLLAR CITY!Sign up using the form below to reserve your spot—space is limited and this event fills up fast!
URL:https://chickfilagp.com/event/trivia-night-2/
LOCATION:Chick-fil-A Glenpool\, 12130 S Waco Ave\, Glenpool\, OK\, 74033\, United States
ATTACH;FMTTYPE=image/jpeg:https://chickfilagp.com/wp-content/uploads/2025/06/TRIVIA-NIGHT-729.jpg
ORGANIZER;CN="Chick-fil-A Glenpool":MAILTO:04345@chick-fil-a.com
END:VEVENT
BEGIN:VEVENT
DTSTART;TZID=America/Chicago:20250730T110000
DTEND;TZID=America/Chicago:20250730T140000
DTSTAMP:20260424T183703
CREATED:20250623T194912Z
LAST-MODIFIED:20250623T194912Z
UID:10000283-1753873200-1753884000@chickfilagp.com
SUMMARY:⛳ Closest to the Pin Challenge
DESCRIPTION:⛳ Closest to the Pin Challenge – Right Here at Chick-fil-A Glenpool!We’re bringing the green inside this summer! Join us as Scratch Indoor Golf from Bixby sets up shop at Chick-fil-A Glenpool for a one-of-a-kind golf experience. \n🏌️‍♂️ Take your swing in our Closest to the Pin Challenge from 11:00am–2:00pm and see how close you can get to the flag. Whether you’re a seasoned golfer or just in it for fun\, everyone’s welcome to take a shot! \n🎉 Top 3 participants will win awesome prizes! \nGrab some lunch\, swing by\, and show us what you’ve got!
URL:https://chickfilagp.com/event/%e2%9b%b3-closest-to-the-pin-challenge/
LOCATION:Chick-fil-A Glenpool\, 12130 S Waco Ave\, Glenpool\, OK\, 74033\, United States
ATTACH;FMTTYPE=image/jpeg:https://chickfilagp.com/wp-content/uploads/2025/06/Scratch-Golf.jpg
ORGANIZER;CN="Chick-fil-A Glenpool":MAILTO:04345@chick-fil-a.com
END:VEVENT
BEGIN:VEVENT
DTSTART;TZID=America/Chicago:20250731T110000
DTEND;TZID=America/Chicago:20250731T130000
DTSTAMP:20260424T183703
CREATED:20250707T135950Z
LAST-MODIFIED:20250707T135950Z
UID:10000288-1753959600-1753966800@chickfilagp.com
SUMMARY:Summer Kids Day (Birthday Bash!)
DESCRIPTION:🎉🎈 We’re Turning 5 at Chick-fil-A Glenpool! 🎂🐄 \nIt’s our 5th Birthday and we’re throwing a huge Cow Party to celebrate—and you’re invited! 🎊 \nJoin us for birthday fun with:🎁 Treats🎨 Face Painting🎈 Balloons🎯 Games🍧 Josh’s SnoCones on site from 11AM–5PM (sno cones available for purchase) \nAnd of course\, the Chick-fil-A Cow will be partying with us all day long! \n📍 Chick-fil-A Glenpool🗓 Thursday | 11AM–1PM (activities)\, SnoCones till 5PM \nCome celebrate FIVE fantastic years with us! 🎂🐮🎉
URL:https://chickfilagp.com/event/summer-kids-day-birthday-bash/
LOCATION:Chick-fil-A Glenpool\, 12130 S Waco Ave\, Glenpool\, OK\, 74033\, United States
ATTACH;FMTTYPE=image/jpeg:https://chickfilagp.com/wp-content/uploads/2024/04/Summer-KD-LOGO.jpg
ORGANIZER;CN="Chick-fil-A Glenpool":MAILTO:04345@chick-fil-a.com
END:VEVENT
BEGIN:VEVENT
DTSTART;TZID=America/Chicago:20250731T110000
DTEND;TZID=America/Chicago:20250731T170000
DTSTAMP:20260424T183703
CREATED:20250616T210304Z
LAST-MODIFIED:20250616T210304Z
UID:10000281-1753959600-1753981200@chickfilagp.com
SUMMARY:Summer Kids Day + Josh's Snow Cones
DESCRIPTION:🎉 Summer Kids Day Birthday Bash! 🎉Join us as we celebrate 5 amazing years in Glenpool with a special Summer Kids Day Party you won’t want to miss! Bring the whole family out for a day full of fun on Tuesday\, July 30th from 11AM–1PM. \nEnjoy games\, activities\, and a special appearance by the Chick-fil-A Cow—he’s ready to party with all his favorite friends! We’ll have all sorts of exciting things for kids to do as we celebrate this big birthday together. \n🎉 Bonus Treat: Josh’s Snow Cones will be on site from 11AM–5PM\, so you can cool off with your favorite flavors while the fun continues! \nCome celebrate with us—we can’t wait to see you there!
URL:https://chickfilagp.com/event/summer-kids-day-joshs-snow-cones/
LOCATION:Chick-fil-A Glenpool\, 12130 S Waco Ave\, Glenpool\, OK\, 74033\, United States
ATTACH;FMTTYPE=image/jpeg:https://chickfilagp.com/wp-content/uploads/2025/06/SKDandJoshs.jpg
ORGANIZER;CN="Chick-fil-A Glenpool":MAILTO:04345@chick-fil-a.com
END:VEVENT
END:VCALENDAR