BEGIN:VCALENDAR
VERSION:2.0
PRODID:-//Chick-fil-A Glenpool - ECPv6.15.20//NONSGML v1.0//EN
CALSCALE:GREGORIAN
METHOD:PUBLISH
X-ORIGINAL-URL:https://chickfilagp.com
X-WR-CALDESC:Events for Chick-fil-A Glenpool
REFRESH-INTERVAL;VALUE=DURATION:PT1H
X-Robots-Tag:noindex
X-PUBLISHED-TTL:PT1H
BEGIN:VTIMEZONE
TZID:America/Chicago
BEGIN:DAYLIGHT
TZOFFSETFROM:-0600
TZOFFSETTO:-0500
TZNAME:CDT
DTSTART:20250309T080000
END:DAYLIGHT
BEGIN:STANDARD
TZOFFSETFROM:-0500
TZOFFSETTO:-0600
TZNAME:CST
DTSTART:20251102T070000
END:STANDARD
BEGIN:DAYLIGHT
TZOFFSETFROM:-0600
TZOFFSETTO:-0500
TZNAME:CDT
DTSTART:20260308T080000
END:DAYLIGHT
BEGIN:STANDARD
TZOFFSETFROM:-0500
TZOFFSETTO:-0600
TZNAME:CST
DTSTART:20261101T070000
END:STANDARD
BEGIN:DAYLIGHT
TZOFFSETFROM:-0600
TZOFFSETTO:-0500
TZNAME:CDT
DTSTART:20270314T080000
END:DAYLIGHT
BEGIN:STANDARD
TZOFFSETFROM:-0500
TZOFFSETTO:-0600
TZNAME:CST
DTSTART:20271107T070000
END:STANDARD
END:VTIMEZONE
BEGIN:VEVENT
DTSTART;TZID=America/Chicago:20260305T173000
DTEND;TZID=America/Chicago:20260305T190000
DTSTAMP:20260424T062915
CREATED:20260226T210852Z
LAST-MODIFIED:20260226T211137Z
UID:10000328-1772731800-1772737200@chickfilagp.com
SUMMARY:Kids Night
DESCRIPTION:Join us for a fun-filled Kids Night from 5:30 PM – 7:00 PM at Chick-fil-A Glenpool! Bring the whole family and enjoy an evening of smiles\, creativity\, and community. \n🎨 Face Painting with Ms. RikkiWatch your little ones light up as Ms. Rikki transforms them into their favorite characters and colorful creations. \nWe’re also excited for you to meet our new Kids Night Host Team — Christina\, Jocelyn\, and Cheyenne! Be sure to stop by\, say hello\, and help us give them a warm Chick-fil-A Glenpool welcome as they help make this night extra special. \nCome enjoy dinner\, let the kids have some fun\, and make it a night out for the whole family. We can’t wait to see you there! 🐄✨
URL:https://chickfilagp.com/event/kids-night-87/
LOCATION:Chick-fil-A Glenpool\, 12130 S Waco Ave\, Glenpool\, OK\, 74033\, United States
ATTACH;FMTTYPE=image/jpeg:https://chickfilagp.com/wp-content/uploads/2026/02/March-KN-Logo.jpg
ORGANIZER;CN="Chick-fil-A Glenpool":MAILTO:04345@chick-fil-a.com
END:VEVENT
BEGIN:VEVENT
DTSTART;TZID=America/Chicago:20260312T173000
DTEND;TZID=America/Chicago:20260312T190000
DTSTAMP:20260424T062915
CREATED:20260226T211100Z
LAST-MODIFIED:20260226T211100Z
UID:10000329-1773336600-1773342000@chickfilagp.com
SUMMARY:Kids Night
DESCRIPTION:Join us for a lucky night of creativity at Chick-fil-A Glenpool! Our St. Patrick’s Day Craft Night is the perfect way for kids to celebrate the season with hands-on fun and a little extra sparkle. \nLittle leprechauns will get to create a festive St. Patrick’s Day-themed craft to take home while enjoying a fun\, family-friendly atmosphere. \nWe’re also excited for you to meet our brand new Kids Night Host Team — Christina\, Jocelyn\, and Cheyenne! They’ll be leading the fun and can’t wait to welcome your family for an evening full of smiles and creativity. \nBring the family\, grab dinner\, and join us for a shamrockin’ good time. We can’t wait to see you there! 🍀✨
URL:https://chickfilagp.com/event/kids-night-88/
LOCATION:Chick-fil-A Glenpool\, 12130 S Waco Ave\, Glenpool\, OK\, 74033\, United States
ATTACH;FMTTYPE=image/jpeg:https://chickfilagp.com/wp-content/uploads/2026/02/March-KN-Logo.jpg
ORGANIZER;CN="Chick-fil-A Glenpool":MAILTO:04345@chick-fil-a.com
END:VEVENT
BEGIN:VEVENT
DTSTART;TZID=America/Chicago:20260319T173000
DTEND;TZID=America/Chicago:20260319T190000
DTSTAMP:20260424T062915
CREATED:20260226T211610Z
LAST-MODIFIED:20260226T211610Z
UID:10000330-1773941400-1773946800@chickfilagp.com
SUMMARY:Kids Night
DESCRIPTION:We’re so excited for our very first Kids Night featuring Balloons from Brittany! Get ready for an evening full of creativity\, color\, and amazing balloon creations your kids will absolutely love. \nBrittany will be twisting up fun balloon designs and bringing big smiles to little faces — and we already know you’re going to love her! Let’s make sure to give her the warmest Chick-fil-A Glenpool welcome as she joins us for this special night. \nWhile you’re here\, don’t forget to stop by and say hello to our new Kids Night Host Team — Christina\, Jocelyn\, and Cheyenne! They’ll be helping lead the fun and can’t wait to serve your family. \nBring the crew\, grab dinner\, and join us for a night of balloons\, laughter\, and community. We can’t wait to see you there! 🎈✨🐄
URL:https://chickfilagp.com/event/kids-night-89/
LOCATION:Chick-fil-A Glenpool\, 12130 S Waco Ave\, Glenpool\, OK\, 74033\, United States
ATTACH;FMTTYPE=image/jpeg:https://chickfilagp.com/wp-content/uploads/2026/02/March-KN-Logo.jpg
ORGANIZER;CN="Chick-fil-A Glenpool":MAILTO:04345@chick-fil-a.com
END:VEVENT
BEGIN:VEVENT
DTSTART;TZID=America/Chicago:20260324T173000
DTEND;TZID=America/Chicago:20260324T193000
DTSTAMP:20260424T062915
CREATED:20260108T195413Z
LAST-MODIFIED:20260209T194451Z
UID:10000319-1774373400-1774380600@chickfilagp.com
SUMMARY:Milkshakes and Masterpieces
DESCRIPTION:Spring is in the air\, and we’re celebrating with another fun night of Milkshakes & Masterpieces on Tuesday\, March 24th! Join us for an evening filled with creativity\, community\, and a sweet Chick-fil-A milkshake while you create a spring-inspired masterpiece to take home. \nThis guest-favorite event is perfect for artists of all ages and experience levels. Come enjoy bright colors\, seasonal inspiration\, and a relaxed atmosphere as we welcome the new season together. \n🌸 Date: Tuesday\, March 24th🎨 Theme: Springtime Creativity🥤 Treat: A delicious Chick-fil-A milkshake
URL:https://chickfilagp.com/event/milkshakes-and-masterpieces-8/
LOCATION:Chick-fil-A Glenpool\, 12130 S Waco Ave\, Glenpool\, OK\, 74033\, United States
ATTACH;FMTTYPE=image/jpeg:https://chickfilagp.com/wp-content/uploads/2024/08/MM-Logo-with-cow.jpg
ORGANIZER;CN="Chick-fil-A Glenpool":MAILTO:04345@chick-fil-a.com
END:VEVENT
BEGIN:VEVENT
DTSTART;TZID=America/Chicago:20260326T173000
DTEND;TZID=America/Chicago:20260326T190000
DTSTAMP:20260424T062915
CREATED:20260226T212209Z
LAST-MODIFIED:20260226T212209Z
UID:10000331-1774546200-1774551600@chickfilagp.com
SUMMARY:Kids Night
DESCRIPTION:Get ready for a night of laughs\, friendly competition\, and family fun at our next Family Game Night at Chick-fil-A Glenpool! \nThis week\, we’re mixing things up with some exciting Chick-fil-A GAMES — and you’ll definitely want to be here to find out exactly what we have planned. 👀🎯 \nOur brand new Kids Night Host Team — Christina\, Jocelyn\, and Cheyenne — will be leading the fun and bringing the energy all evening long. Come cheer each other on\, join in the action\, and enjoy some quality time together. \nBring the whole family\, grab dinner\, and get ready for a night full of surprises. We can’t wait to see you there! 🐄✨
URL:https://chickfilagp.com/event/kids-night-90/
LOCATION:Chick-fil-A Glenpool\, 12130 S Waco Ave\, Glenpool\, OK\, 74033\, United States
ATTACH;FMTTYPE=image/jpeg:https://chickfilagp.com/wp-content/uploads/2026/02/March-KN-Logo.jpg
ORGANIZER;CN="Chick-fil-A Glenpool":MAILTO:04345@chick-fil-a.com
END:VEVENT
END:VCALENDAR