BEGIN:VCALENDAR
VERSION:2.0
PRODID:-//Chick-fil-A Glenpool - ECPv6.15.20//NONSGML v1.0//EN
CALSCALE:GREGORIAN
METHOD:PUBLISH
X-ORIGINAL-URL:https://chickfilagp.com
X-WR-CALDESC:Events for Chick-fil-A Glenpool
REFRESH-INTERVAL;VALUE=DURATION:PT1H
X-Robots-Tag:noindex
X-PUBLISHED-TTL:PT1H
BEGIN:VTIMEZONE
TZID:America/Chicago
BEGIN:DAYLIGHT
TZOFFSETFROM:-0600
TZOFFSETTO:-0500
TZNAME:CDT
DTSTART:20250309T080000
END:DAYLIGHT
BEGIN:STANDARD
TZOFFSETFROM:-0500
TZOFFSETTO:-0600
TZNAME:CST
DTSTART:20251102T070000
END:STANDARD
BEGIN:DAYLIGHT
TZOFFSETFROM:-0600
TZOFFSETTO:-0500
TZNAME:CDT
DTSTART:20260308T080000
END:DAYLIGHT
BEGIN:STANDARD
TZOFFSETFROM:-0500
TZOFFSETTO:-0600
TZNAME:CST
DTSTART:20261101T070000
END:STANDARD
BEGIN:DAYLIGHT
TZOFFSETFROM:-0600
TZOFFSETTO:-0500
TZNAME:CDT
DTSTART:20270314T080000
END:DAYLIGHT
BEGIN:STANDARD
TZOFFSETFROM:-0500
TZOFFSETTO:-0600
TZNAME:CST
DTSTART:20271107T070000
END:STANDARD
END:VTIMEZONE
BEGIN:VEVENT
DTSTART;TZID=America/Chicago:20260402T173000
DTEND;TZID=America/Chicago:20260402T190000
DTSTAMP:20260425T051835
CREATED:20260316T141616Z
LAST-MODIFIED:20260316T141616Z
UID:10000332-1775151000-1775156400@chickfilagp.com
SUMMARY:Kids Night
DESCRIPTION:Kids Night happens every Thursday from 5:30 PM – 7:00 PM at Chick-fil-A Glenpool\, and this week we’re excited to welcome Ms. Rikki for a fun evening of face painting! \nWatch your little ones light up as Ms. Rikki transforms their faces into colorful characters\, animals\, and creative designs. It’s the perfect way to add a little extra magic to your family’s dinner night. \nBring the whole family\, grab dinner\, and let the kids enjoy a little creativity and fun. We can’t wait to see you there!
URL:https://chickfilagp.com/event/kids-night-91/
LOCATION:Chick-fil-A Glenpool\, 12130 S Waco Ave\, Glenpool\, OK\, 74033\, United States
ATTACH;FMTTYPE=image/png:https://chickfilagp.com/wp-content/uploads/2026/03/Easter-KN-Logo.png
ORGANIZER;CN="Chick-fil-A Glenpool":MAILTO:04345@chick-fil-a.com
END:VEVENT
BEGIN:VEVENT
DTSTART;TZID=America/Chicago:20260409T173000
DTEND;TZID=America/Chicago:20260409T190000
DTSTAMP:20260425T051835
CREATED:20260316T143321Z
LAST-MODIFIED:20260316T143321Z
UID:10000333-1775755800-1775761200@chickfilagp.com
SUMMARY:Kids Night
DESCRIPTION:Join us for Kids Night every Thursday from 5:30 PM – 7:00 PM at Chick-fil-A Glenpool! This week\, we’re celebrating the season with Easter Craft Night. \nKids will have the chance to create their very own Easter clips to take home and show off. It’s a fun\, hands-on activity perfect for getting into the spring spirit. \nYour favorite Kids Night Host Team — Christina\, Jocelyn\, and Cheyenne — will be leading the fun and helping everyone create something special. \nBring the family\, grab dinner\, and let the kids enjoy a night of creativity and fun. We can’t wait to see you there! 🐄✨
URL:https://chickfilagp.com/event/kids-night-92/
LOCATION:Chick-fil-A Glenpool\, 12130 S Waco Ave\, Glenpool\, OK\, 74033\, United States
ATTACH;FMTTYPE=image/png:https://chickfilagp.com/wp-content/uploads/2026/03/Easter-KN-Logo.png
ORGANIZER;CN="Chick-fil-A Glenpool":MAILTO:04345@chick-fil-a.com
END:VEVENT
BEGIN:VEVENT
DTSTART;TZID=America/Chicago:20260416T173000
DTEND;TZID=America/Chicago:20260416T190000
DTSTAMP:20260425T051835
CREATED:20260316T143654Z
LAST-MODIFIED:20260316T143654Z
UID:10000334-1776360600-1776366000@chickfilagp.com
SUMMARY:Kids Night
DESCRIPTION:Join us for Kids Night every Thursday from 5:30 PM – 7:00 PM at Chick-fil-A Glenpool! This week\, we’re excited to welcome back Balloons by Brittany for an evening of colorful fun. \nBrittany will be creating amazing balloon designs that kids will love. From fun shapes to creative characters\, you never know what she’ll twist up next! \n\n\n\n\n\n\n\n\nBring the whole family\, grab dinner\, and enjoy a night full of smiles\, balloons\, and community. We can’t wait to see you there! 🎈🐄✨
URL:https://chickfilagp.com/event/kids-night-93/
LOCATION:Chick-fil-A Glenpool\, 12130 S Waco Ave\, Glenpool\, OK\, 74033\, United States
ATTACH;FMTTYPE=image/png:https://chickfilagp.com/wp-content/uploads/2026/03/Easter-KN-Logo.png
ORGANIZER;CN="Chick-fil-A Glenpool":MAILTO:04345@chick-fil-a.com
END:VEVENT
BEGIN:VEVENT
DTSTART;TZID=America/Chicago:20260423T173000
DTEND;TZID=America/Chicago:20260423T190000
DTSTAMP:20260425T051835
CREATED:20260316T143952Z
LAST-MODIFIED:20260316T143952Z
UID:10000335-1776965400-1776970800@chickfilagp.com
SUMMARY:Kids Night
DESCRIPTION:Join us for Kids Night every Thursday from 5:30 PM – 7:00 PM at Chick-fil-A Glenpool! This week\, we’re bringing the fun with Family Game Night: Pictionary. \nPut your drawing skills to the test as families compete in this classic game full of laughs\, creativity\, and friendly competition. You never know what hilarious drawings might show up on the board! \nYour favorite Kids Night Host Team — Christina\, Jocelyn\, and Cheyenne — will be leading the games and bringing the energy all evening long. \nBring the whole family\, grab dinner\, and get ready for a night of fun\, laughter\, and teamwork. We can’t wait to see you there! 🐄✨🎨
URL:https://chickfilagp.com/event/kids-night-94/
LOCATION:Chick-fil-A Glenpool\, 12130 S Waco Ave\, Glenpool\, OK\, 74033\, United States
ATTACH;FMTTYPE=image/jpeg:https://chickfilagp.com/wp-content/uploads/2026/01/Family-Game-Night-2026.jpg
ORGANIZER;CN="Chick-fil-A Glenpool":MAILTO:04345@chick-fil-a.com
END:VEVENT
BEGIN:VEVENT
DTSTART;TZID=America/Chicago:20260430T173000
DTEND;TZID=America/Chicago:20260430T190000
DTSTAMP:20260425T051835
CREATED:20260316T144541Z
LAST-MODIFIED:20260316T144541Z
UID:10000336-1777570200-1777575600@chickfilagp.com
SUMMARY:Kids Night
DESCRIPTION:Join us for Kids Night every Thursday from 5:30 PM – 7:00 PM at Chick-fil-A Glenpool! This week we’re mixing creativity with a little science during Science Craft Night: Tie-Dye Flowers. \nKids will get to watch colors spread and blend as they create their own beautiful tie-dye flowers to take home. It’s a fun\, hands-on activity that’s part craft and part science experiment! \nYour favorite Kids Night Host Team — Christina\, Jocelyn\, and Cheyenne — will be there to guide the fun and help everyone create something colorful. \nBring the whole family\, grab dinner\, and enjoy a night of creativity\, discovery\, and fun. We can’t wait to see you there! 🐄✨🌸
URL:https://chickfilagp.com/event/kids-night-95/
LOCATION:Chick-fil-A Glenpool\, 12130 S Waco Ave\, Glenpool\, OK\, 74033\, United States
ATTACH;FMTTYPE=image/png:https://chickfilagp.com/wp-content/uploads/2026/03/Easter-KN-Logo.png
ORGANIZER;CN="Chick-fil-A Glenpool":MAILTO:04345@chick-fil-a.com
END:VEVENT
BEGIN:VEVENT
DTSTART;TZID=America/Chicago:20260505T173000
DTEND;TZID=America/Chicago:20260505T190000
DTSTAMP:20260425T051835
CREATED:20260403T214250Z
LAST-MODIFIED:20260408T203840Z
UID:10000337-1778002200-1778007600@chickfilagp.com
SUMMARY:Mother-Son Lego Night
DESCRIPTION:Mother-Son LEGO Night 🧱💙 \nJoin us for a fun and memorable evening designed just for moms and their boys! Build\, laugh\, and spend quality time together while enjoying dinner and a hands-on LEGO experience. \nRSVP is required to attend\, and LEGO kits will only be available for those who reserve in advance. Each family will receive one LEGO kit for just $5. \nPlease RSVP no later than Wednesday\, April 29th to secure your spot and LEGO kit. \nWhen you arrive\, simply give your name to a team member at the front counter\, place your dinner order\, and your LEGO kit will be delivered right to your table with your food. \nWe’ll also have a dessert bar and a few extra fun surprises to make the night even more special! \n🕠 Event Time: 5:30 PM – 7:00 PMFeel free to arrive anytime during this window. \nSpots are limited\, so be sure to RSVP early—we can’t wait to see you there!
URL:https://chickfilagp.com/event/3866/
LOCATION:Chick-fil-A Glenpool\, 12130 S Waco Ave\, Glenpool\, OK\, 74033\, United States
ATTACH;FMTTYPE=image/jpeg:https://chickfilagp.com/wp-content/uploads/2026/04/MS-LEGO-NIGHT.jpg
ORGANIZER;CN="Chick-fil-A Glenpool":MAILTO:04345@chick-fil-a.com
END:VEVENT
BEGIN:VEVENT
DTSTART;TZID=America/Chicago:20260519T180000
DTEND;TZID=America/Chicago:20260519T190000
DTSTAMP:20260425T051835
CREATED:20260123T203240Z
LAST-MODIFIED:20260123T203303Z
UID:10000322-1779213600-1779217200@chickfilagp.com
SUMMARY:Bingo Night
DESCRIPTION:Bingo Night is our quarterly excuse to eat dinner\, play a few rounds of Bingo\, and win some prizes. Simple as that. \nJoin us from 6:00–7:00 PM during dinner service. With a minimum entrée purchase\, you’ll get Bingo cards to play throughout the hour. Win a Bingo\, win a prize — up to five wins per guest each night. \nCome with friends\, bring the family\, or just swing by for dinner and jump in. No pressure\, just good food and a little friendly competition.
URL:https://chickfilagp.com/event/bingo-night-2/
LOCATION:Chick-fil-A Glenpool\, 12130 S Waco Ave\, Glenpool\, OK\, 74033\, United States
ATTACH;FMTTYPE=image/jpeg:https://chickfilagp.com/wp-content/uploads/2026/01/Bingo-Night.jpg
ORGANIZER;CN="Chick-fil-A Glenpool":MAILTO:04345@chick-fil-a.com
END:VEVENT
BEGIN:VEVENT
DTSTART;TZID=America/Chicago:20260604T110000
DTEND;TZID=America/Chicago:20260604T130000
DTSTAMP:20260425T051835
CREATED:20260123T205015Z
LAST-MODIFIED:20260123T205015Z
UID:10000325-1780570800-1780578000@chickfilagp.com
SUMMARY:Summer Kids Day
DESCRIPTION:Everyone’s favorite summer tradition returns on Thursday\, June 4th. Join us for 8 weeks of Summer Kids Days\, happening every Thursday from 11:00am–1:00pm. \nEach week brings a fun reason to stop by—perfect for mid-day breaks\, easy lunches\, and making summer memories with your kids. No schedules to juggle\, no pressure—just a relaxed\, come-and-go kind of fun all summer long. \nWe can’t wait to kick it off with you!
URL:https://chickfilagp.com/event/summer-kids-day-11/
LOCATION:Chick-fil-A Glenpool\, 12130 S Waco Ave\, Glenpool\, OK\, 74033\, United States
ATTACH;FMTTYPE=image/jpeg:https://chickfilagp.com/wp-content/uploads/2026/01/SKD-logo.jpg
ORGANIZER;CN="Chick-fil-A Glenpool":MAILTO:04345@chick-fil-a.com
END:VEVENT
BEGIN:VEVENT
DTSTART;TZID=America/Chicago:20260818T180000
DTEND;TZID=America/Chicago:20260818T190000
DTSTAMP:20260425T051835
CREATED:20260123T203439Z
LAST-MODIFIED:20260123T203439Z
UID:10000323-1787076000-1787079600@chickfilagp.com
SUMMARY:Bingo Night
DESCRIPTION:Bingo Night is our quarterly excuse to eat dinner\, play a few rounds of Bingo\, and win some prizes. Simple as that. \nJoin us from 6:00–7:00 PM during dinner service. With a minimum entrée purchase\, you’ll get Bingo cards to play throughout the hour. Win a Bingo\, win a prize — up to five wins per guest each night. \nCome with friends\, bring the family\, or just swing by for dinner and jump in. No pressure\, just good food and a little friendly competition.
URL:https://chickfilagp.com/event/bingo-night-3/
LOCATION:Chick-fil-A Glenpool\, 12130 S Waco Ave\, Glenpool\, OK\, 74033\, United States
ATTACH;FMTTYPE=image/jpeg:https://chickfilagp.com/wp-content/uploads/2026/01/Bingo-Night.jpg
ORGANIZER;CN="Chick-fil-A Glenpool":MAILTO:04345@chick-fil-a.com
END:VEVENT
BEGIN:VEVENT
DTSTART;TZID=America/Chicago:20261110T180000
DTEND;TZID=America/Chicago:20261110T190000
DTSTAMP:20260425T051835
CREATED:20260123T203542Z
LAST-MODIFIED:20260123T203542Z
UID:10000324-1794333600-1794337200@chickfilagp.com
SUMMARY:Bingo Night
DESCRIPTION:Bingo Night is our quarterly excuse to eat dinner\, play a few rounds of Bingo\, and win some prizes. Simple as that. \nJoin us from 6:00–7:00 PM during dinner service. With a minimum entrée purchase\, you’ll get Bingo cards to play throughout the hour. Win a Bingo\, win a prize — up to five wins per guest each night. \nCome with friends\, bring the family\, or just swing by for dinner and jump in. No pressure\, just good food and a little friendly competition.
URL:https://chickfilagp.com/event/bingo-night-4/
LOCATION:Chick-fil-A Glenpool\, 12130 S Waco Ave\, Glenpool\, OK\, 74033\, United States
ATTACH;FMTTYPE=image/jpeg:https://chickfilagp.com/wp-content/uploads/2026/01/Bingo-Night.jpg
ORGANIZER;CN="Chick-fil-A Glenpool":MAILTO:04345@chick-fil-a.com
END:VEVENT
END:VCALENDAR